BEGIN:VCALENDAR
VERSION:2.0
PRODID:-//CFUW Southport - ECPv6.15.20//NONSGML v1.0//EN
CALSCALE:GREGORIAN
METHOD:PUBLISH
X-ORIGINAL-URL:https://cfuwsouthport.ca
X-WR-CALDESC:Events for CFUW Southport
REFRESH-INTERVAL;VALUE=DURATION:PT1H
X-Robots-Tag:noindex
X-PUBLISHED-TTL:PT1H
BEGIN:VTIMEZONE
TZID:America/Toronto
BEGIN:DAYLIGHT
TZOFFSETFROM:-0500
TZOFFSETTO:-0400
TZNAME:EDT
DTSTART:20240310T070000
END:DAYLIGHT
BEGIN:STANDARD
TZOFFSETFROM:-0400
TZOFFSETTO:-0500
TZNAME:EST
DTSTART:20241103T060000
END:STANDARD
BEGIN:DAYLIGHT
TZOFFSETFROM:-0500
TZOFFSETTO:-0400
TZNAME:EDT
DTSTART:20250309T070000
END:DAYLIGHT
BEGIN:STANDARD
TZOFFSETFROM:-0400
TZOFFSETTO:-0500
TZNAME:EST
DTSTART:20251102T060000
END:STANDARD
BEGIN:DAYLIGHT
TZOFFSETFROM:-0500
TZOFFSETTO:-0400
TZNAME:EDT
DTSTART:20260308T070000
END:DAYLIGHT
BEGIN:STANDARD
TZOFFSETFROM:-0400
TZOFFSETTO:-0500
TZNAME:EST
DTSTART:20261101T060000
END:STANDARD
END:VTIMEZONE
BEGIN:VEVENT
DTSTART;TZID=America/Toronto:20251201T013000
DTEND;TZID=America/Toronto:20251201T153000
DTSTAMP:20260422T180920
CREATED:20250820T232209Z
LAST-MODIFIED:20250821T211211Z
UID:10001277-1764552600-1764603000@cfuwsouthport.ca
SUMMARY:Book Marks Book Club
DESCRIPTION:Facilitator: Catherine Taylor
URL:https://cfuwsouthport.ca/event/book-marks-book-club/2025-12-01/
CATEGORIES:Book Club - Book Marks
ORGANIZER;CN="Catherine Taylor":MAILTO:cfuwsp@gmail.com
END:VEVENT
END:VCALENDAR