BEGIN:VCALENDAR
VERSION:2.0
PRODID:-//CFUW Southport - ECPv6.15.20//NONSGML v1.0//EN
CALSCALE:GREGORIAN
METHOD:PUBLISH
X-ORIGINAL-URL:https://cfuwsouthport.ca
X-WR-CALDESC:Events for CFUW Southport
REFRESH-INTERVAL;VALUE=DURATION:PT1H
X-Robots-Tag:noindex
X-PUBLISHED-TTL:PT1H
BEGIN:VTIMEZONE
TZID:America/Toronto
BEGIN:DAYLIGHT
TZOFFSETFROM:-0500
TZOFFSETTO:-0400
TZNAME:EDT
DTSTART:20230312T070000
END:DAYLIGHT
BEGIN:STANDARD
TZOFFSETFROM:-0400
TZOFFSETTO:-0500
TZNAME:EST
DTSTART:20231105T060000
END:STANDARD
BEGIN:DAYLIGHT
TZOFFSETFROM:-0500
TZOFFSETTO:-0400
TZNAME:EDT
DTSTART:20240310T070000
END:DAYLIGHT
BEGIN:STANDARD
TZOFFSETFROM:-0400
TZOFFSETTO:-0500
TZNAME:EST
DTSTART:20241103T060000
END:STANDARD
BEGIN:DAYLIGHT
TZOFFSETFROM:-0500
TZOFFSETTO:-0400
TZNAME:EDT
DTSTART:20250309T070000
END:DAYLIGHT
BEGIN:STANDARD
TZOFFSETFROM:-0400
TZOFFSETTO:-0500
TZNAME:EST
DTSTART:20251102T060000
END:STANDARD
BEGIN:DAYLIGHT
TZOFFSETFROM:-0500
TZOFFSETTO:-0400
TZNAME:EDT
DTSTART:20260308T070000
END:DAYLIGHT
BEGIN:STANDARD
TZOFFSETFROM:-0400
TZOFFSETTO:-0500
TZNAME:EST
DTSTART:20261101T060000
END:STANDARD
END:VTIMEZONE
BEGIN:VEVENT
DTSTART;TZID=America/Toronto:20250514T180000
DTEND;TZID=America/Toronto:20250514T220000
DTSTAMP:20260422T073843
CREATED:20240918T175932Z
LAST-MODIFIED:20240918T180805Z
UID:10000687-1747245600-1747260000@cfuwsouthport.ca
SUMMARY:CFUW Southport Dinner Club
DESCRIPTION:Contact Kathleen Wallace\, Facilitator for further information at cfuwsp@gmail.com. \n 
URL:https://cfuwsouthport.ca/event/cfuw-southport-dinner-club/
LOCATION:To be determined
CATEGORIES:Dinner Club
ORGANIZER;CN="Program Committee":MAILTO:cfuwsp@gmail.com
END:VEVENT
BEGIN:VEVENT
DTSTART;TZID=America/Toronto:20250208T180000
DTEND;TZID=America/Toronto:20250208T220000
DTSTAMP:20260422T073843
CREATED:20250108T040105Z
LAST-MODIFIED:20250108T040105Z
UID:10000997-1739037600-1739052000@cfuwsouthport.ca
SUMMARY:Dinner Club
DESCRIPTION:
URL:https://cfuwsouthport.ca/event/dinner-club-7/
LOCATION:To be announced by organizer
CATEGORIES:Dinner Club
END:VEVENT
BEGIN:VEVENT
DTSTART;TZID=America/Toronto:20250111T180000
DTEND;TZID=America/Toronto:20250111T230000
DTSTAMP:20260422T073843
CREATED:20240918T184045Z
LAST-MODIFIED:20241118T025859Z
UID:10000692-1736618400-1736636400@cfuwsouthport.ca
SUMMARY:Dinner Club
DESCRIPTION:Facilitator: Kathleen Wallace cfuwsp@gmail.com \nVenue to be determined.
URL:https://cfuwsouthport.ca/event/dinner-club-2/
LOCATION:Details to be announced.
CATEGORIES:Dinner Club
END:VEVENT
BEGIN:VEVENT
DTSTART;TZID=America/Toronto:20241205T060000
DTEND;TZID=America/Toronto:20241205T210000
DTSTAMP:20260422T073843
CREATED:20241118T020255Z
LAST-MODIFIED:20241118T020255Z
UID:10000916-1733378400-1733432400@cfuwsouthport.ca
SUMMARY:Dinner Club - Holiday Cookie Making
DESCRIPTION:Each participant is asked to bring their favourite holiday cookie or square ingredients. Please bring enough to make six dozen.
URL:https://cfuwsouthport.ca/event/dinner-club-holiday-cookie-making/
LOCATION:Christine Martin’s Home\, 1 Westgate Drive\, Port Elgin\, Ontario\, N0H 2C2\, Canada
CATEGORIES:Dinner Club
END:VEVENT
BEGIN:VEVENT
DTSTART;TZID=America/Toronto:20241112T173000
DTEND;TZID=America/Toronto:20241112T213000
DTSTAMP:20260422T073843
CREATED:20241118T010000Z
LAST-MODIFIED:20241118T010000Z
UID:10000904-1731432600-1731447000@cfuwsouthport.ca
SUMMARY:Dinner Club
DESCRIPTION:Kathleen Wallace\, Facilitator
URL:https://cfuwsouthport.ca/event/dinner-club-5/
LOCATION:Michele Wake’s House\, 12 Huron Street North\, Southampton\, Ontario\, Canada
CATEGORIES:Dinner Club
ORGANIZER;CN="Kathleen Wallace cfuwsp@gmail.com":MAILTO:cfuwsp@gmail.com
END:VEVENT
BEGIN:VEVENT
DTSTART;TZID=America/Toronto:20241109T180000
DTEND;TZID=America/Toronto:20241109T220000
DTSTAMP:20260422T073843
CREATED:20241109T050006Z
LAST-MODIFIED:20241118T003729Z
UID:10000900-1731175200-1731189600@cfuwsouthport.ca
SUMMARY:Dinner Club
DESCRIPTION:Facilitators: Liz Owen and Suzie Leith
URL:https://cfuwsouthport.ca/event/dinner-club-4/
CATEGORIES:Dinner Club
ORGANIZER;CN="Program Committee":MAILTO:cfuwsp@gmail.com
END:VEVENT
END:VCALENDAR