BEGIN:VCALENDAR
VERSION:2.0
PRODID:-//CFUW Southport - ECPv6.15.20//NONSGML v1.0//EN
CALSCALE:GREGORIAN
METHOD:PUBLISH
X-WR-CALNAME:CFUW Southport
X-ORIGINAL-URL:https://cfuwsouthport.ca
X-WR-CALDESC:Events for CFUW Southport
REFRESH-INTERVAL;VALUE=DURATION:PT1H
X-Robots-Tag:noindex
X-PUBLISHED-TTL:PT1H
BEGIN:VTIMEZONE
TZID:America/Toronto
BEGIN:DAYLIGHT
TZOFFSETFROM:-0500
TZOFFSETTO:-0400
TZNAME:EDT
DTSTART:20260308T070000
END:DAYLIGHT
BEGIN:STANDARD
TZOFFSETFROM:-0400
TZOFFSETTO:-0500
TZNAME:EST
DTSTART:20261101T060000
END:STANDARD
BEGIN:DAYLIGHT
TZOFFSETFROM:-0500
TZOFFSETTO:-0400
TZNAME:EDT
DTSTART:20270314T070000
END:DAYLIGHT
BEGIN:STANDARD
TZOFFSETFROM:-0400
TZOFFSETTO:-0500
TZNAME:EST
DTSTART:20271107T060000
END:STANDARD
BEGIN:DAYLIGHT
TZOFFSETFROM:-0500
TZOFFSETTO:-0400
TZNAME:EDT
DTSTART:20280312T070000
END:DAYLIGHT
BEGIN:STANDARD
TZOFFSETFROM:-0400
TZOFFSETTO:-0500
TZNAME:EST
DTSTART:20281105T060000
END:STANDARD
BEGIN:DAYLIGHT
TZOFFSETFROM:-0500
TZOFFSETTO:-0400
TZNAME:EDT
DTSTART:20290311T070000
END:DAYLIGHT
BEGIN:STANDARD
TZOFFSETFROM:-0400
TZOFFSETTO:-0500
TZNAME:EST
DTSTART:20291104T060000
END:STANDARD
BEGIN:DAYLIGHT
TZOFFSETFROM:-0500
TZOFFSETTO:-0400
TZNAME:EDT
DTSTART:20300310T070000
END:DAYLIGHT
BEGIN:STANDARD
TZOFFSETFROM:-0400
TZOFFSETTO:-0500
TZNAME:EST
DTSTART:20301103T060000
END:STANDARD
END:VTIMEZONE
BEGIN:VEVENT
DTSTART;VALUE=DATE:20270214
DTEND;VALUE=DATE:20270215
DTSTAMP:20260420T080550
CREATED:20250108T041052Z
LAST-MODIFIED:20250108T041052Z
UID:10001001-1802563200-1802649599@cfuwsouthport.ca
SUMMARY:Valentine's Day - Share the Love
DESCRIPTION:
URL:https://cfuwsouthport.ca/event/valentines-day-share-the-love/2027-02-14/
CATEGORIES:Calendar Date
ORGANIZER;CN="Program Committee":MAILTO:cfuwsp@gmail.com
END:VEVENT
BEGIN:VEVENT
DTSTART;VALUE=DATE:20280214
DTEND;VALUE=DATE:20280215
DTSTAMP:20260420T080550
CREATED:20250108T041052Z
LAST-MODIFIED:20250108T041052Z
UID:10001002-1834099200-1834185599@cfuwsouthport.ca
SUMMARY:Valentine's Day - Share the Love
DESCRIPTION:
URL:https://cfuwsouthport.ca/event/valentines-day-share-the-love/2028-02-14/
CATEGORIES:Calendar Date
ORGANIZER;CN="Program Committee":MAILTO:cfuwsp@gmail.com
END:VEVENT
BEGIN:VEVENT
DTSTART;VALUE=DATE:20290214
DTEND;VALUE=DATE:20290215
DTSTAMP:20260420T080550
CREATED:20250108T041052Z
LAST-MODIFIED:20250108T041052Z
UID:10001003-1865721600-1865807999@cfuwsouthport.ca
SUMMARY:Valentine's Day - Share the Love
DESCRIPTION:
URL:https://cfuwsouthport.ca/event/valentines-day-share-the-love/2029-02-14/
CATEGORIES:Calendar Date
ORGANIZER;CN="Program Committee":MAILTO:cfuwsp@gmail.com
END:VEVENT
END:VCALENDAR