BEGIN:VCALENDAR
VERSION:2.0
PRODID:-//CFUW Southport - ECPv6.15.20//NONSGML v1.0//EN
CALSCALE:GREGORIAN
METHOD:PUBLISH
X-WR-CALNAME:CFUW Southport
X-ORIGINAL-URL:https://cfuwsouthport.ca
X-WR-CALDESC:Events for CFUW Southport
REFRESH-INTERVAL;VALUE=DURATION:PT1H
X-Robots-Tag:noindex
X-PUBLISHED-TTL:PT1H
BEGIN:VTIMEZONE
TZID:America/Toronto
BEGIN:DAYLIGHT
TZOFFSETFROM:-0500
TZOFFSETTO:-0400
TZNAME:EDT
DTSTART:20250309T070000
END:DAYLIGHT
BEGIN:STANDARD
TZOFFSETFROM:-0400
TZOFFSETTO:-0500
TZNAME:EST
DTSTART:20251102T060000
END:STANDARD
BEGIN:DAYLIGHT
TZOFFSETFROM:-0500
TZOFFSETTO:-0400
TZNAME:EDT
DTSTART:20260308T070000
END:DAYLIGHT
BEGIN:STANDARD
TZOFFSETFROM:-0400
TZOFFSETTO:-0500
TZNAME:EST
DTSTART:20261101T060000
END:STANDARD
BEGIN:DAYLIGHT
TZOFFSETFROM:-0500
TZOFFSETTO:-0400
TZNAME:EDT
DTSTART:20270314T070000
END:DAYLIGHT
BEGIN:STANDARD
TZOFFSETFROM:-0400
TZOFFSETTO:-0500
TZNAME:EST
DTSTART:20271107T060000
END:STANDARD
BEGIN:DAYLIGHT
TZOFFSETFROM:-0500
TZOFFSETTO:-0400
TZNAME:EDT
DTSTART:20280312T070000
END:DAYLIGHT
BEGIN:STANDARD
TZOFFSETFROM:-0400
TZOFFSETTO:-0500
TZNAME:EST
DTSTART:20281105T060000
END:STANDARD
BEGIN:DAYLIGHT
TZOFFSETFROM:-0500
TZOFFSETTO:-0400
TZNAME:EDT
DTSTART:20290311T070000
END:DAYLIGHT
BEGIN:STANDARD
TZOFFSETFROM:-0400
TZOFFSETTO:-0500
TZNAME:EST
DTSTART:20291104T060000
END:STANDARD
END:VTIMEZONE
BEGIN:VEVENT
DTSTART;TZID=America/Toronto:20260428T180000
DTEND;TZID=America/Toronto:20260428T210000
DTSTAMP:20260416T131456
CREATED:20251017T153014Z
LAST-MODIFIED:20260402T172750Z
UID:10001419-1777399200-1777410000@cfuwsouthport.ca
SUMMARY:Culinary Chaos Club
DESCRIPTION:Facilitator: Kathleen Wallace
URL:https://cfuwsouthport.ca/event/cooking-club-2/2026-04-28/
END:VEVENT
BEGIN:VEVENT
DTSTART;TZID=America/Toronto:20260526T180000
DTEND;TZID=America/Toronto:20260526T210000
DTSTAMP:20260416T131456
CREATED:20251017T153014Z
LAST-MODIFIED:20260402T172750Z
UID:10001420-1779818400-1779829200@cfuwsouthport.ca
SUMMARY:Culinary Chaos Club
DESCRIPTION:Facilitator: Kathleen Wallace
URL:https://cfuwsouthport.ca/event/cooking-club-2/2026-05-26/
END:VEVENT
BEGIN:VEVENT
DTSTART;TZID=America/Toronto:20260623T180000
DTEND;TZID=America/Toronto:20260623T210000
DTSTAMP:20260416T131456
CREATED:20251017T153014Z
LAST-MODIFIED:20260402T172750Z
UID:10001421-1782237600-1782248400@cfuwsouthport.ca
SUMMARY:Culinary Chaos Club
DESCRIPTION:Facilitator: Kathleen Wallace
URL:https://cfuwsouthport.ca/event/cooking-club-2/2026-06-23/
END:VEVENT
BEGIN:VEVENT
DTSTART;TZID=America/Toronto:20260728T180000
DTEND;TZID=America/Toronto:20260728T210000
DTSTAMP:20260416T131456
CREATED:20251017T153014Z
LAST-MODIFIED:20260402T172750Z
UID:10001422-1785261600-1785272400@cfuwsouthport.ca
SUMMARY:Culinary Chaos Club
DESCRIPTION:Facilitator: Kathleen Wallace
URL:https://cfuwsouthport.ca/event/cooking-club-2/2026-07-28/
END:VEVENT
BEGIN:VEVENT
DTSTART;TZID=America/Toronto:20260825T180000
DTEND;TZID=America/Toronto:20260825T210000
DTSTAMP:20260416T131456
CREATED:20251017T153014Z
LAST-MODIFIED:20260402T172750Z
UID:10001423-1787680800-1787691600@cfuwsouthport.ca
SUMMARY:Culinary Chaos Club
DESCRIPTION:Facilitator: Kathleen Wallace
URL:https://cfuwsouthport.ca/event/cooking-club-2/2026-08-25/
END:VEVENT
BEGIN:VEVENT
DTSTART;TZID=America/Toronto:20260922T180000
DTEND;TZID=America/Toronto:20260922T210000
DTSTAMP:20260416T131456
CREATED:20251017T153014Z
LAST-MODIFIED:20260402T172750Z
UID:10001424-1790100000-1790110800@cfuwsouthport.ca
SUMMARY:Culinary Chaos Club
DESCRIPTION:Facilitator: Kathleen Wallace
URL:https://cfuwsouthport.ca/event/cooking-club-2/2026-09-22/
END:VEVENT
BEGIN:VEVENT
DTSTART;TZID=America/Toronto:20261027T180000
DTEND;TZID=America/Toronto:20261027T210000
DTSTAMP:20260416T131456
CREATED:20251017T153014Z
LAST-MODIFIED:20260402T172750Z
UID:10001425-1793124000-1793134800@cfuwsouthport.ca
SUMMARY:Culinary Chaos Club
DESCRIPTION:Facilitator: Kathleen Wallace
URL:https://cfuwsouthport.ca/event/cooking-club-2/2026-10-27/
END:VEVENT
BEGIN:VEVENT
DTSTART;TZID=America/Toronto:20261124T180000
DTEND;TZID=America/Toronto:20261124T210000
DTSTAMP:20260416T131456
CREATED:20251017T153014Z
LAST-MODIFIED:20260402T172750Z
UID:10001426-1795543200-1795554000@cfuwsouthport.ca
SUMMARY:Culinary Chaos Club
DESCRIPTION:Facilitator: Kathleen Wallace
URL:https://cfuwsouthport.ca/event/cooking-club-2/2026-11-24/
END:VEVENT
BEGIN:VEVENT
DTSTART;TZID=America/Toronto:20261222T180000
DTEND;TZID=America/Toronto:20261222T210000
DTSTAMP:20260416T131456
CREATED:20251017T153014Z
LAST-MODIFIED:20260402T172750Z
UID:10001427-1797962400-1797973200@cfuwsouthport.ca
SUMMARY:Culinary Chaos Club
DESCRIPTION:Facilitator: Kathleen Wallace
URL:https://cfuwsouthport.ca/event/cooking-club-2/2026-12-22/
END:VEVENT
BEGIN:VEVENT
DTSTART;TZID=America/Toronto:20270126T180000
DTEND;TZID=America/Toronto:20270126T210000
DTSTAMP:20260416T131456
CREATED:20251017T153014Z
LAST-MODIFIED:20260402T172750Z
UID:10001428-1800986400-1800997200@cfuwsouthport.ca
SUMMARY:Culinary Chaos Club
DESCRIPTION:Facilitator: Kathleen Wallace
URL:https://cfuwsouthport.ca/event/cooking-club-2/2027-01-26/
END:VEVENT
BEGIN:VEVENT
DTSTART;TZID=America/Toronto:20270223T180000
DTEND;TZID=America/Toronto:20270223T210000
DTSTAMP:20260416T131456
CREATED:20251017T153014Z
LAST-MODIFIED:20260402T172750Z
UID:10001429-1803405600-1803416400@cfuwsouthport.ca
SUMMARY:Culinary Chaos Club
DESCRIPTION:Facilitator: Kathleen Wallace
URL:https://cfuwsouthport.ca/event/cooking-club-2/2027-02-23/
END:VEVENT
BEGIN:VEVENT
DTSTART;TZID=America/Toronto:20270323T180000
DTEND;TZID=America/Toronto:20270323T210000
DTSTAMP:20260416T131456
CREATED:20251017T153014Z
LAST-MODIFIED:20260402T172750Z
UID:10001430-1805824800-1805835600@cfuwsouthport.ca
SUMMARY:Culinary Chaos Club
DESCRIPTION:Facilitator: Kathleen Wallace
URL:https://cfuwsouthport.ca/event/cooking-club-2/2027-03-23/
END:VEVENT
BEGIN:VEVENT
DTSTART;TZID=America/Toronto:20270427T180000
DTEND;TZID=America/Toronto:20270427T210000
DTSTAMP:20260416T131456
CREATED:20251017T153014Z
LAST-MODIFIED:20260402T172750Z
UID:10001431-1808848800-1808859600@cfuwsouthport.ca
SUMMARY:Culinary Chaos Club
DESCRIPTION:Facilitator: Kathleen Wallace
URL:https://cfuwsouthport.ca/event/cooking-club-2/2027-04-27/
END:VEVENT
BEGIN:VEVENT
DTSTART;TZID=America/Toronto:20270525T180000
DTEND;TZID=America/Toronto:20270525T210000
DTSTAMP:20260416T131456
CREATED:20251017T153014Z
LAST-MODIFIED:20260402T172750Z
UID:10001432-1811268000-1811278800@cfuwsouthport.ca
SUMMARY:Culinary Chaos Club
DESCRIPTION:Facilitator: Kathleen Wallace
URL:https://cfuwsouthport.ca/event/cooking-club-2/2027-05-25/
END:VEVENT
BEGIN:VEVENT
DTSTART;TZID=America/Toronto:20270622T180000
DTEND;TZID=America/Toronto:20270622T210000
DTSTAMP:20260416T131456
CREATED:20251017T153014Z
LAST-MODIFIED:20260402T172750Z
UID:10001433-1813687200-1813698000@cfuwsouthport.ca
SUMMARY:Culinary Chaos Club
DESCRIPTION:Facilitator: Kathleen Wallace
URL:https://cfuwsouthport.ca/event/cooking-club-2/2027-06-22/
END:VEVENT
BEGIN:VEVENT
DTSTART;TZID=America/Toronto:20270727T180000
DTEND;TZID=America/Toronto:20270727T210000
DTSTAMP:20260416T131456
CREATED:20251017T153014Z
LAST-MODIFIED:20260402T172750Z
UID:10001434-1816711200-1816722000@cfuwsouthport.ca
SUMMARY:Culinary Chaos Club
DESCRIPTION:Facilitator: Kathleen Wallace
URL:https://cfuwsouthport.ca/event/cooking-club-2/2027-07-27/
END:VEVENT
BEGIN:VEVENT
DTSTART;TZID=America/Toronto:20270824T180000
DTEND;TZID=America/Toronto:20270824T210000
DTSTAMP:20260416T131456
CREATED:20251017T153014Z
LAST-MODIFIED:20260402T172750Z
UID:10001435-1819130400-1819141200@cfuwsouthport.ca
SUMMARY:Culinary Chaos Club
DESCRIPTION:Facilitator: Kathleen Wallace
URL:https://cfuwsouthport.ca/event/cooking-club-2/2027-08-24/
END:VEVENT
BEGIN:VEVENT
DTSTART;TZID=America/Toronto:20270928T180000
DTEND;TZID=America/Toronto:20270928T210000
DTSTAMP:20260416T131456
CREATED:20251017T153014Z
LAST-MODIFIED:20260402T172750Z
UID:10001436-1822154400-1822165200@cfuwsouthport.ca
SUMMARY:Culinary Chaos Club
DESCRIPTION:Facilitator: Kathleen Wallace
URL:https://cfuwsouthport.ca/event/cooking-club-2/2027-09-28/
END:VEVENT
BEGIN:VEVENT
DTSTART;TZID=America/Toronto:20271026T180000
DTEND;TZID=America/Toronto:20271026T210000
DTSTAMP:20260416T131456
CREATED:20251017T153014Z
LAST-MODIFIED:20260402T172750Z
UID:10001437-1824573600-1824584400@cfuwsouthport.ca
SUMMARY:Culinary Chaos Club
DESCRIPTION:Facilitator: Kathleen Wallace
URL:https://cfuwsouthport.ca/event/cooking-club-2/2027-10-26/
END:VEVENT
BEGIN:VEVENT
DTSTART;TZID=America/Toronto:20271123T180000
DTEND;TZID=America/Toronto:20271123T210000
DTSTAMP:20260416T131456
CREATED:20251017T153014Z
LAST-MODIFIED:20260402T172750Z
UID:10001438-1826992800-1827003600@cfuwsouthport.ca
SUMMARY:Culinary Chaos Club
DESCRIPTION:Facilitator: Kathleen Wallace
URL:https://cfuwsouthport.ca/event/cooking-club-2/2027-11-23/
END:VEVENT
BEGIN:VEVENT
DTSTART;TZID=America/Toronto:20271228T180000
DTEND;TZID=America/Toronto:20271228T210000
DTSTAMP:20260416T131456
CREATED:20251017T153014Z
LAST-MODIFIED:20260402T172750Z
UID:10001439-1830016800-1830027600@cfuwsouthport.ca
SUMMARY:Culinary Chaos Club
DESCRIPTION:Facilitator: Kathleen Wallace
URL:https://cfuwsouthport.ca/event/cooking-club-2/2027-12-28/
END:VEVENT
BEGIN:VEVENT
DTSTART;TZID=America/Toronto:20280125T180000
DTEND;TZID=America/Toronto:20280125T210000
DTSTAMP:20260416T131456
CREATED:20251017T153014Z
LAST-MODIFIED:20260402T172750Z
UID:10001440-1832436000-1832446800@cfuwsouthport.ca
SUMMARY:Culinary Chaos Club
DESCRIPTION:Facilitator: Kathleen Wallace
URL:https://cfuwsouthport.ca/event/cooking-club-2/2028-01-25/
END:VEVENT
BEGIN:VEVENT
DTSTART;TZID=America/Toronto:20280222T180000
DTEND;TZID=America/Toronto:20280222T210000
DTSTAMP:20260416T131456
CREATED:20251017T153014Z
LAST-MODIFIED:20260402T172750Z
UID:10001441-1834855200-1834866000@cfuwsouthport.ca
SUMMARY:Culinary Chaos Club
DESCRIPTION:Facilitator: Kathleen Wallace
URL:https://cfuwsouthport.ca/event/cooking-club-2/2028-02-22/
END:VEVENT
BEGIN:VEVENT
DTSTART;TZID=America/Toronto:20280328T180000
DTEND;TZID=America/Toronto:20280328T210000
DTSTAMP:20260416T131456
CREATED:20251017T153014Z
LAST-MODIFIED:20260402T172750Z
UID:10001442-1837879200-1837890000@cfuwsouthport.ca
SUMMARY:Culinary Chaos Club
DESCRIPTION:Facilitator: Kathleen Wallace
URL:https://cfuwsouthport.ca/event/cooking-club-2/2028-03-28/
END:VEVENT
BEGIN:VEVENT
DTSTART;TZID=America/Toronto:20280425T180000
DTEND;TZID=America/Toronto:20280425T210000
DTSTAMP:20260416T131456
CREATED:20251017T153014Z
LAST-MODIFIED:20260402T172750Z
UID:10001443-1840298400-1840309200@cfuwsouthport.ca
SUMMARY:Culinary Chaos Club
DESCRIPTION:Facilitator: Kathleen Wallace
URL:https://cfuwsouthport.ca/event/cooking-club-2/2028-04-25/
END:VEVENT
BEGIN:VEVENT
DTSTART;TZID=America/Toronto:20280523T180000
DTEND;TZID=America/Toronto:20280523T210000
DTSTAMP:20260416T131456
CREATED:20251017T153014Z
LAST-MODIFIED:20260402T172750Z
UID:10001444-1842717600-1842728400@cfuwsouthport.ca
SUMMARY:Culinary Chaos Club
DESCRIPTION:Facilitator: Kathleen Wallace
URL:https://cfuwsouthport.ca/event/cooking-club-2/2028-05-23/
END:VEVENT
BEGIN:VEVENT
DTSTART;TZID=America/Toronto:20280627T180000
DTEND;TZID=America/Toronto:20280627T210000
DTSTAMP:20260416T131456
CREATED:20251017T153014Z
LAST-MODIFIED:20260402T172750Z
UID:10001445-1845741600-1845752400@cfuwsouthport.ca
SUMMARY:Culinary Chaos Club
DESCRIPTION:Facilitator: Kathleen Wallace
URL:https://cfuwsouthport.ca/event/cooking-club-2/2028-06-27/
END:VEVENT
BEGIN:VEVENT
DTSTART;TZID=America/Toronto:20280725T180000
DTEND;TZID=America/Toronto:20280725T210000
DTSTAMP:20260416T131456
CREATED:20251017T153014Z
LAST-MODIFIED:20260402T172750Z
UID:10001446-1848160800-1848171600@cfuwsouthport.ca
SUMMARY:Culinary Chaos Club
DESCRIPTION:Facilitator: Kathleen Wallace
URL:https://cfuwsouthport.ca/event/cooking-club-2/2028-07-25/
END:VEVENT
BEGIN:VEVENT
DTSTART;TZID=America/Toronto:20280822T180000
DTEND;TZID=America/Toronto:20280822T210000
DTSTAMP:20260416T131456
CREATED:20251017T153014Z
LAST-MODIFIED:20260402T172750Z
UID:10001447-1850580000-1850590800@cfuwsouthport.ca
SUMMARY:Culinary Chaos Club
DESCRIPTION:Facilitator: Kathleen Wallace
URL:https://cfuwsouthport.ca/event/cooking-club-2/2028-08-22/
END:VEVENT
BEGIN:VEVENT
DTSTART;TZID=America/Toronto:20280926T180000
DTEND;TZID=America/Toronto:20280926T210000
DTSTAMP:20260416T131456
CREATED:20251017T153014Z
LAST-MODIFIED:20260402T172750Z
UID:10001448-1853604000-1853614800@cfuwsouthport.ca
SUMMARY:Culinary Chaos Club
DESCRIPTION:Facilitator: Kathleen Wallace
URL:https://cfuwsouthport.ca/event/cooking-club-2/2028-09-26/
END:VEVENT
END:VCALENDAR