BEGIN:VCALENDAR
VERSION:2.0
PRODID:-//CFUW Southport - ECPv6.15.20//NONSGML v1.0//EN
CALSCALE:GREGORIAN
METHOD:PUBLISH
X-WR-CALNAME:CFUW Southport
X-ORIGINAL-URL:https://cfuwsouthport.ca
X-WR-CALDESC:Events for CFUW Southport
REFRESH-INTERVAL;VALUE=DURATION:PT1H
X-Robots-Tag:noindex
X-PUBLISHED-TTL:PT1H
BEGIN:VTIMEZONE
TZID:America/Toronto
BEGIN:DAYLIGHT
TZOFFSETFROM:-0500
TZOFFSETTO:-0400
TZNAME:EDT
DTSTART:20230312T070000
END:DAYLIGHT
BEGIN:STANDARD
TZOFFSETFROM:-0400
TZOFFSETTO:-0500
TZNAME:EST
DTSTART:20231105T060000
END:STANDARD
BEGIN:DAYLIGHT
TZOFFSETFROM:-0500
TZOFFSETTO:-0400
TZNAME:EDT
DTSTART:20240310T070000
END:DAYLIGHT
BEGIN:STANDARD
TZOFFSETFROM:-0400
TZOFFSETTO:-0500
TZNAME:EST
DTSTART:20241103T060000
END:STANDARD
BEGIN:DAYLIGHT
TZOFFSETFROM:-0500
TZOFFSETTO:-0400
TZNAME:EDT
DTSTART:20250309T070000
END:DAYLIGHT
BEGIN:STANDARD
TZOFFSETFROM:-0400
TZOFFSETTO:-0500
TZNAME:EST
DTSTART:20251102T060000
END:STANDARD
BEGIN:DAYLIGHT
TZOFFSETFROM:-0500
TZOFFSETTO:-0400
TZNAME:EDT
DTSTART:20260308T070000
END:DAYLIGHT
BEGIN:STANDARD
TZOFFSETFROM:-0400
TZOFFSETTO:-0500
TZNAME:EST
DTSTART:20261101T060000
END:STANDARD
BEGIN:DAYLIGHT
TZOFFSETFROM:-0500
TZOFFSETTO:-0400
TZNAME:EDT
DTSTART:20270314T070000
END:DAYLIGHT
BEGIN:STANDARD
TZOFFSETFROM:-0400
TZOFFSETTO:-0500
TZNAME:EST
DTSTART:20271107T060000
END:STANDARD
END:VTIMEZONE
BEGIN:VEVENT
DTSTART;TZID=America/Toronto:20260114T120000
DTEND;TZID=America/Toronto:20260114T140000
DTSTAMP:20260422T091236
CREATED:20251121T175008Z
LAST-MODIFIED:20251201T200927Z
UID:10001482-1768392000-1768399200@cfuwsouthport.ca
SUMMARY:January 14th Lunch 'n Learn
DESCRIPTION:Guest Speaker: Martha Bowden – Eighteenth Century Women Writers\, Fables and Resistance \nYou must RSVP by January 7th\, 2026 and pay by e-transfer to cfuw.southport.members@gmail.com \nThe menu features three choices\, each for $30.00\, all included. Assorted cookies\, coffee and tea included: \n\nChoice A: Chick pot pie and garden salad with balsamic vinaigrette.\nChoice B: Vegetarian quiche and garden salad with balsamic vinaigrette.\nChoice C: Small garden salad with balsamic vinaigrette and crab cake.
URL:https://cfuwsouthport.ca/event/january-14th-lunch-n-learn/
LOCATION:The Walker House\, 146 High St\, Southampton\, Ontario\, N0H 2L0\, Canada
CATEGORIES:Lunch & Learn
ORGANIZER;CN="Program Committee":MAILTO:cfuwsp@gmail.com
END:VEVENT
BEGIN:VEVENT
DTSTART;VALUE=DATE:20250611
DTEND;VALUE=DATE:20250612
DTSTAMP:20260422T091236
CREATED:20240731T000540Z
LAST-MODIFIED:20240731T000540Z
UID:10000256-1749600000-1749686399@cfuwsouthport.ca
SUMMARY:CFUW Southport AGM & Year End Celebration
DESCRIPTION:Details to be announced
URL:https://cfuwsouthport.ca/event/cfuw-southport-agm-year-end-celebration-3/
LOCATION:The Walker House\, 146 High St\, Southampton\, Ontario\, N0H 2L0\, Canada
CATEGORIES:AGM & Year End Celebration,Annual Event,Details to be announced
ORGANIZER;CN="Program Committee":MAILTO:cfuwsp@gmail.com
END:VEVENT
BEGIN:VEVENT
DTSTART;TZID=America/Toronto:20250312T120000
DTEND;TZID=America/Toronto:20250312T140000
DTSTAMP:20260422T091236
CREATED:20240730T234749Z
LAST-MODIFIED:20240731T000213Z
UID:10000252-1741780800-1741788000@cfuwsouthport.ca
SUMMARY:CFUW Southport Lunch & Learn
DESCRIPTION:MEMBERS ONLY EVENT – Pre-register and pay for menu choice. \nGuest Speaker:  Andrew Matlock\, CEO\, Designware \nArtificial Intelligence 101
URL:https://cfuwsouthport.ca/event/cfuw-southport-lunch-learn-2/
LOCATION:The Walker House\, 146 High St\, Southampton\, Ontario\, N0H 2L0\, Canada
CATEGORIES:Lunch & Learn,Monthly Membership
ORGANIZER;CN="Program Committee":MAILTO:cfuwsp@gmail.com
END:VEVENT
BEGIN:VEVENT
DTSTART;TZID=America/Toronto:20250228T173000
DTEND;TZID=America/Toronto:20250228T190000
DTSTAMP:20260422T091236
CREATED:20250117T164534Z
LAST-MODIFIED:20250123T204507Z
UID:10000986-1740763800-1740769200@cfuwsouthport.ca
SUMMARY:Trial: Pilot- Lunch & Learn
DESCRIPTION:**Disclaimer- This is a test for the website and NOT an actual event.**\n  \n  \nPlease do not buy tickets  \nPlease join us for the Lunch and Learn event at the Walker House on February 28th\, 2025. We are offering three meal options for your selection: a Quiche and Salad\, a Blackened Chicken with Caesar Salad\, or Crab Cakes served alongside a Salad. We kindly request that you choose one meal option from the selections provided. We will also be serving some refreshments\, including tea\, coffee\, and cookies. \nPlease note that seating is limited\, so early registration is recommended to secure your spot at this wonderful Lunch and Learn gathering. \n*Please RSVP and Pay by February 15th 2025* \n  \nWhat: Learn and Lunch \nWhere: Walker House (146 High St\, Southampton\, ON N0H 2L0) \nWhen: February 28th 2025 \nHow Much: $30 (includes tax + gratuities) \n  \nPayment Options: \ne-transfers:  cfuw.southport.members@gmail.com \ncheque: CFUW Southport
URL:https://cfuwsouthport.ca/event/trial-pilot-lunch-learn/
LOCATION:The Walker House\, 146 High St\, Southampton\, Ontario\, N0H 2L0\, Canada
ORGANIZER;CN="Program Committee":MAILTO:cfuwsp@gmail.com
END:VEVENT
BEGIN:VEVENT
DTSTART;TZID=America/Toronto:20250108T120000
DTEND;TZID=America/Toronto:20250108T140000
DTSTAMP:20260422T091236
CREATED:20240730T233106Z
LAST-MODIFIED:20240731T000114Z
UID:10000250-1736337600-1736344800@cfuwsouthport.ca
SUMMARY:CFUW Southport Lunch & Learn
DESCRIPTION:MEMBERS ONLY EVENT – Pre-register and pay for menu choice. \nGuest Speaker:  Constable Kaitlyn Schenk\, Saugeen Shores Police Service \nHow to Avoid and Prevent Frauds and Scams
URL:https://cfuwsouthport.ca/event/cfuw-southport-lunch-learn/
LOCATION:The Walker House\, 146 High St\, Southampton\, Ontario\, N0H 2L0\, Canada
CATEGORIES:Lunch & Learn
ORGANIZER;CN="Program Committee":MAILTO:cfuwsp@gmail.com
END:VEVENT
BEGIN:VEVENT
DTSTART;TZID=America/Toronto:20240730T080000
DTEND;TZID=America/Toronto:20240730T170000
DTSTAMP:20260422T091236
CREATED:20240730T235527Z
LAST-MODIFIED:20240730T235527Z
UID:10000255-1722326400-1722358800@cfuwsouthport.ca
SUMMARY:CFUW Southport AGM & Year End Celebration
DESCRIPTION:MEMBERS ONLY \nDetails re venue and time to be announced
URL:https://cfuwsouthport.ca/event/cfuw-southport-agm-year-end-celebration-2/
LOCATION:The Walker House\, 146 High St\, Southampton\, Ontario\, N0H 2L0\, Canada
CATEGORIES:Monthly Membership,Year End Celebration
ORGANIZER;CN="Program Committee":MAILTO:cfuwsp@gmail.com
END:VEVENT
END:VCALENDAR