BEGIN:VCALENDAR
VERSION:2.0
PRODID:-//CFUW Southport - ECPv6.15.20//NONSGML v1.0//EN
CALSCALE:GREGORIAN
METHOD:PUBLISH
X-ORIGINAL-URL:https://cfuwsouthport.ca
X-WR-CALDESC:Events for CFUW Southport
REFRESH-INTERVAL;VALUE=DURATION:PT1H
X-Robots-Tag:noindex
X-PUBLISHED-TTL:PT1H
BEGIN:VTIMEZONE
TZID:America/Toronto
BEGIN:DAYLIGHT
TZOFFSETFROM:-0500
TZOFFSETTO:-0400
TZNAME:EDT
DTSTART:20230312T070000
END:DAYLIGHT
BEGIN:STANDARD
TZOFFSETFROM:-0400
TZOFFSETTO:-0500
TZNAME:EST
DTSTART:20231105T060000
END:STANDARD
BEGIN:DAYLIGHT
TZOFFSETFROM:-0500
TZOFFSETTO:-0400
TZNAME:EDT
DTSTART:20240310T070000
END:DAYLIGHT
BEGIN:STANDARD
TZOFFSETFROM:-0400
TZOFFSETTO:-0500
TZNAME:EST
DTSTART:20241103T060000
END:STANDARD
BEGIN:DAYLIGHT
TZOFFSETFROM:-0500
TZOFFSETTO:-0400
TZNAME:EDT
DTSTART:20250309T070000
END:DAYLIGHT
BEGIN:STANDARD
TZOFFSETFROM:-0400
TZOFFSETTO:-0500
TZNAME:EST
DTSTART:20251102T060000
END:STANDARD
BEGIN:DAYLIGHT
TZOFFSETFROM:-0500
TZOFFSETTO:-0400
TZNAME:EDT
DTSTART:20260308T070000
END:DAYLIGHT
BEGIN:STANDARD
TZOFFSETFROM:-0400
TZOFFSETTO:-0500
TZNAME:EST
DTSTART:20261101T060000
END:STANDARD
BEGIN:DAYLIGHT
TZOFFSETFROM:-0500
TZOFFSETTO:-0400
TZNAME:EDT
DTSTART:20270314T070000
END:DAYLIGHT
BEGIN:STANDARD
TZOFFSETFROM:-0400
TZOFFSETTO:-0500
TZNAME:EST
DTSTART:20271107T060000
END:STANDARD
END:VTIMEZONE
BEGIN:VEVENT
DTSTART;TZID=America/Toronto:20260122T190000
DTEND;TZID=America/Toronto:20260122T203000
DTSTAMP:20260422T120009
CREATED:20251111T011936Z
LAST-MODIFIED:20251111T011936Z
UID:10001481-1769108400-1769113800@cfuwsouthport.ca
SUMMARY:CFUW Southport Executive Meeting
DESCRIPTION:
URL:https://cfuwsouthport.ca/event/cfuw-southport-executive-meeting-8/
LOCATION:To be determined
END:VEVENT
BEGIN:VEVENT
DTSTART;TZID=America/Toronto:20250514T180000
DTEND;TZID=America/Toronto:20250514T220000
DTSTAMP:20260422T120009
CREATED:20240918T175932Z
LAST-MODIFIED:20240918T180805Z
UID:10000687-1747245600-1747260000@cfuwsouthport.ca
SUMMARY:CFUW Southport Dinner Club
DESCRIPTION:Contact Kathleen Wallace\, Facilitator for further information at cfuwsp@gmail.com. \n 
URL:https://cfuwsouthport.ca/event/cfuw-southport-dinner-club/
LOCATION:To be determined
CATEGORIES:Dinner Club
ORGANIZER;CN="Program Committee":MAILTO:cfuwsp@gmail.com
END:VEVENT
BEGIN:VEVENT
DTSTART;TZID=America/Toronto:20241023T190000
DTEND;TZID=America/Toronto:20241023T203000
DTSTAMP:20260422T120009
CREATED:20240918T210249Z
LAST-MODIFIED:20240918T210249Z
UID:10000850-1729710000-1729715400@cfuwsouthport.ca
SUMMARY:CFUW Southport Executive Meeting
DESCRIPTION:
URL:https://cfuwsouthport.ca/event/cfuw-southport-executive-meeting-2/
LOCATION:To be determined
CATEGORIES:CFUW Southport Executive
ORGANIZER;CN="Program Committee":MAILTO:cfuwsp@gmail.com
END:VEVENT
END:VCALENDAR